BEGIN:VCALENDAR
VERSION:2.0
PRODID:-//Whitwell Parish Council//Meeting Calendar//EN
CALSCALE:GREGORIAN
METHOD:PUBLISH
BEGIN:VEVENT
UID:70650-20260408@whitwell-pc.gov.uk
DTSTAMP:20260424T105514Z
DTSTART;VALUE=DATE:20260408
DTEND;VALUE=DATE:20260409
SUMMARY:Upcoming Council Meetings
DESCRIPTION:Full Council Meeting\nView details: https://whitwell-pc.gov.uk/meetings/upcoming-council-meetings/
URL:https://whitwell-pc.gov.uk/meetings/upcoming-council-meetings/
END:VEVENT
END:VCALENDAR
